BEGIN:VCALENDAR
VERSION:2.0
PRODID:-//ChamberMaster//Event Calendar 2.0//EN
METHOD:PUBLISH
X-PUBLISHED-TTL:P3D
REFRESH-INTERVAL:P3D
CALSCALE:GREGORIAN
BEGIN:VEVENT
DTSTART:20151101T200000Z
DTEND:20151101T220000Z
X-MICROSOFT-CDO-ALLDAYEVENT:FALSE
SUMMARY:Hanover Symphony Orchestra Celebrating 20 Years and the Sound Continues! "Be Our
DESCRIPTION:Celebrating 20 Years and the Sound Continues! "Be Our Guest" 1995 to 2015 Susan Gross\, Assistant Conductor
X-ALT-DESC;FMTTYPE=text/html:Celebrating 20 Years and the Sound Continues! &quot\;Be Our Guest&quot\; 1995 to 2015 Susan Gross\, Assistant Conductor
LOCATION:Eichelberger Performing Arts Center
UID:e.1500.973
SEQUENCE:3
DTSTAMP:20260422T201513Z
URL:https://business.mainstreethanover.org/events/details/hanover-symphony-orchestra-celebrating-20-years-and-the-sound-continues-be-our-11-01-2015-973
END:VEVENT

END:VCALENDAR
