BEGIN:VCALENDAR
VERSION:2.0
PRODID:-//ChamberMaster//Event Calendar 2.0//EN
METHOD:PUBLISH
X-PUBLISHED-TTL:P3D
REFRESH-INTERVAL:P3D
CALSCALE:GREGORIAN
BEGIN:VEVENT
DTSTART:20180203T230000Z
DTEND:20180204T040000Z
X-MICROSOFT-CDO-ALLDAYEVENT:FALSE
SUMMARY:Hanover Symphony Orchestra Tailgate Party
DESCRIPTION:Tailgate Party - Tailgate Style Dinner Buffet Silent Auction  Prizes Cash Bar\n\nSouvenir Station Sports Themed Games and more!\n\nMusic by Hanover's own Big Band
X-ALT-DESC;FMTTYPE=text/html:Tailgate Party -&nbsp\;Tailgate Style Dinner Buffet&mdash\;Silent Auction&mdash\; Prizes&mdash\;Cash Bar<br />\nSouvenir Station&mdash\;Sports Themed Games&mdash\;and more!<br />\nMusic by Hanover&rsquo\;s own Big Band<br />\n&nbsp\;
LOCATION:Hanover Country Club
UID:e.1500.3127
SEQUENCE:3
DTSTAMP:20260421T042757Z
URL:https://business.mainstreethanover.org/events/details/hanover-symphony-orchestra-tailgate-party-3127
END:VEVENT

END:VCALENDAR
