BEGIN:VCALENDAR
VERSION:2.0
PRODID:-//ChamberMaster//Event Calendar 2.0//EN
METHOD:PUBLISH
X-PUBLISHED-TTL:P3D
REFRESH-INTERVAL:P3D
CALSCALE:GREGORIAN
BEGIN:VEVENT
DTSTART;VALUE=DATE:20161117
DTEND;VALUE=DATE:20161118
TRANSP:TRANSPARENT
X-MICROSOFT-CDO-ALLDAYEVENT:TRUE
SUMMARY:HAYP- Education Lunch Series
DESCRIPTION:Our new education series will offer HAYP members with professional development and workshops from a variety of facilitators.\n\n \n\nCheck back for more information as it becomes available. Topics TBD.
X-ALT-DESC;FMTTYPE=text/html:<div class="boxOuterContainer boxViewOutline boxesListItem">\n<div class="boxContainer">\n<div class="d1">\n<div class="d2">\n<div class="d3">\n<div class="d4">\n<div class="d5">\n<div class="d6">\n<div class="d7">\n<div class="d8">\n<div class="d9">\n<div class="inner">\n<div class="boxBodyOuterContainer">\n<div class="boxBodyContainer">\n<div class="d1">\n<div class="d2">\n<div class="d3">\n<div class="d4">\n<div class="d5">\n<div class="d6">\n<div class="d7">\n<div class="d8">\n<div class="d9">\n<div class="inner">\n<div class="boxBodyContentOuterContainer">\n<div class="boxBodyContentContainer fixedHeight">\n<div class="d1">\n<div class="d2">\n<div class="d3">\n<div class="d4">\n<div class="d5">\n<div class="d6">\n<div class="d7">\n<div class="d8">\n<div class="d9">\n<div class="inner gadgetEventEditableArea">\n<p>Our new education series will offer HAYP members with professional development and workshops from a variety of facilitators.</p>\n\n<p>&nbsp\;</p>\n\n<p>Check back for more information as it becomes available. Topics TBD.</p>\n</div>\n</div>\n</div>\n</div>\n</div>\n</div>\n</div>\n</div>\n</div>\n</div>\n</div>\n</div>\n</div>\n</div>\n</div>\n</div>\n</div>\n</div>\n</div>\n</div>\n</div>\n</div>\n</div>\n</div>\n</div>\n</div>\n</div>\n</div>\n</div>\n</div>\n</div>\n</div>\n</div>\n</div>\n</div>\n</div>\n
LOCATION:TBD
UID:e.1500.1241
SEQUENCE:3
DTSTAMP:20260422T021634Z
URL:https://business.mainstreethanover.org/events/details/hayp-education-lunch-series-1241
END:VEVENT

END:VCALENDAR
