BEGIN:VCALENDAR
VERSION:2.0
PRODID:-//ChamberMaster//Event Calendar 2.0//EN
METHOD:PUBLISH
X-PUBLISHED-TTL:P3D
REFRESH-INTERVAL:P3D
CALSCALE:GREGORIAN
BEGIN:VEVENT
DTSTART:20160218T223000Z
DTEND:20160219T003000Z
X-MICROSOFT-CDO-ALLDAYEVENT:FALSE
SUMMARY:HAYP Happy Hour
DESCRIPTION:Join us for a Happy Hour and network with other young professionals in the area!  This event is free for members and non-members\; guests are responsible for their own food and drinks.
X-ALT-DESC;FMTTYPE=text/html:<span style="color: rgb(0\, 0\, 0)\; font-family: tahoma\, verdana\, sans-serif\; font-size: 14.4px\; line-height: normal\;">Join us for a Happy Hour and network with other young professionals in the area! &nbsp\;This event is free for members and non-members\; guests are responsible for their own food and drinks. &nbsp\;&nbsp\;</span>
LOCATION:Bair's Den\, 1630 Broadway\, Hanover
UID:e.1500.1048
SEQUENCE:3
DTSTAMP:20260422T160814Z
URL:https://business.mainstreethanover.org/events/details/hayp-happy-hour-02-18-2016-1048
END:VEVENT

END:VCALENDAR
