BEGIN:VCALENDAR
VERSION:2.0
PRODID:-//ChamberMaster//Event Calendar 2.0//EN
METHOD:PUBLISH
X-PUBLISHED-TTL:P3D
REFRESH-INTERVAL:P3D
CALSCALE:GREGORIAN
BEGIN:VEVENT
DTSTART:20160519T213000Z
DTEND:20160519T230000Z
X-MICROSOFT-CDO-ALLDAYEVENT:FALSE
SUMMARY:HAYP - Happy Hour
DESCRIPTION:Join us for a Happy Hour and network with other young professionals in the area! Hanover Rotary Club will be joining us with their exchange members. This event is free for members and non-members\; guests are responsible for their own food and drinks. Stick around for Trivia night!
X-ALT-DESC;FMTTYPE=text/html:Join us for a Happy Hour and network with other young professionals in the area! Hanover Rotary Club will be joining us with their exchange members. This event is free for members and non-members\; guests are responsible for their own food and drinks. Stick around for Trivia night!
LOCATION:Center Square Brewing - formerly Underside 1 Center Square - Abbottstown
UID:e.1500.1117
SEQUENCE:3
DTSTAMP:20260422T114656Z
URL:https://business.mainstreethanover.org/events/details/hayp-happy-hour-05-19-2016-1117
END:VEVENT

END:VCALENDAR
