BEGIN:VCALENDAR
VERSION:2.0
PRODID:-//ChamberMaster//Event Calendar 2.0//EN
METHOD:PUBLISH
X-PUBLISHED-TTL:P3D
REFRESH-INTERVAL:P3D
CALSCALE:GREGORIAN
BEGIN:VEVENT
DTSTART:20160721T213000Z
DTEND:20160721T233000Z
X-MICROSOFT-CDO-ALLDAYEVENT:FALSE
SUMMARY:HAYP - Happy Hour
DESCRIPTION:Join us for a Happy Hour and network with other young professionals in the area! This event is free for members and non-members\; guests are responsible for their own food and drinks. This event will include some sporting events like Volleyball and Cornhole!
X-ALT-DESC;FMTTYPE=text/html:Join us for a Happy Hour and network with other young professionals in the area! This event is free for members and non-members\; guests are responsible for their own food and drinks. This event will include some sporting events like Volleyball and Cornhole!
LOCATION:Scozzaro's Restaurant - The Mill 4797 York Rd (Rt 30) New Oxford\, PA
UID:e.1500.1120
SEQUENCE:3
DTSTAMP:20260422T082643Z
URL:https://business.mainstreethanover.org/events/details/hayp-happy-hour-07-21-2016-1120
END:VEVENT

END:VCALENDAR
