BEGIN:VCALENDAR
VERSION:2.0
PRODID:-//ChamberMaster//Event Calendar 2.0//EN
METHOD:PUBLISH
X-PUBLISHED-TTL:P3D
REFRESH-INTERVAL:P3D
CALSCALE:GREGORIAN
BEGIN:VEVENT
DTSTART:20180419T213000Z
DTEND:20180419T230000Z
X-MICROSOFT-CDO-ALLDAYEVENT:FALSE
SUMMARY:HAYP - Happy Hour
DESCRIPTION:Join us for a Happy Hour and network with other young professionals in the area! This event is free for members and non-members\; guests are responsible for their own food and drinks.
X-ALT-DESC;FMTTYPE=text/html:Join us for a Happy Hour and network with other young professionals in the area! This event is free for members and non-members\; guests are responsible for their own food and drinks.&nbsp\;
LOCATION:Bill Bateman's Bistro 1418 Baltimore St. Hanover\, PA 17331
UID:e.1500.4176
SEQUENCE:3
DTSTAMP:20260420T233547Z
URL:https://business.mainstreethanover.org/events/details/hayp-happy-hour-4176
END:VEVENT

END:VCALENDAR
