BEGIN:VCALENDAR
VERSION:2.0
PRODID:-//ChamberMaster//Event Calendar 2.0//EN
METHOD:PUBLISH
X-PUBLISHED-TTL:P3D
REFRESH-INTERVAL:P3D
CALSCALE:GREGORIAN
BEGIN:VEVENT
DTSTART:20180719T213000Z
DTEND:20180719T230000Z
X-MICROSOFT-CDO-ALLDAYEVENT:FALSE
SUMMARY:HAYP - Happy Hour
DESCRIPTION:Join us for a Happy Hour and network with other young professionals in the area! This event is free for members and non-members\; guests are responsible for their own food and drinks.
X-ALT-DESC;FMTTYPE=text/html:Join us for a Happy Hour and network with other young professionals in the area! This event is free for members and non-members\; guests are responsible for their own food and drinks.&nbsp\;
LOCATION:The Rocks Lounge 6465 York Rd\, New Oxford\, PA 17350
UID:e.1500.4179
SEQUENCE:3
DTSTAMP:20260420T201825Z
URL:https://business.mainstreethanover.org/events/details/hayp-happy-hour-4179
END:VEVENT

END:VCALENDAR
