BEGIN:VCALENDAR
VERSION:2.0
PRODID:-//ChamberMaster//Event Calendar 2.0//EN
METHOD:PUBLISH
X-PUBLISHED-TTL:P3D
REFRESH-INTERVAL:P3D
CALSCALE:GREGORIAN
BEGIN:VEVENT
DTSTART:20160616T213000Z
DTEND:20160616T233000Z
X-MICROSOFT-CDO-ALLDAYEVENT:FALSE
SUMMARY:HAYP June Professional Development Event - How to participate in a golf outing?
DESCRIPTION:Join us for a professional development event featuring tips for participating in a golf outing or round of golf with business associates. We will hear from the golf pro from the Bridges\, and receive some one-on-one instruction on the driving range. Enjoy light food and drinks and networking with local young business men and women. This event is free for members\; $12.50 for guests. Please register so that we may accommodate all guests.
X-ALT-DESC;FMTTYPE=text/html:Join us for a professional development event featuring tips for participating in a golf outing or round of golf with business associates. We will hear from the golf pro from the Bridges\, and receive some one-on-one instruction on the driving range. Enjoy light food and drinks and networking with local young business men and women. This event is free for members\; $12.50 for guests. Please register so that we may accommodate all guests.
LOCATION:The Bridges Golf Club\, 6729 York Rd\, Abbottstown\, PA 17301
UID:e.1500.1118
SEQUENCE:3
DTSTAMP:20260422T102606Z
URL:https://business.mainstreethanover.org/events/details/hayp-june-professional-development-event-how-to-participate-in-a-golf-outing-06-16-2016-1118
END:VEVENT

END:VCALENDAR
