BEGIN:VCALENDAR
VERSION:2.0
PRODID:-//ChamberMaster//Event Calendar 2.0//EN
METHOD:PUBLISH
X-PUBLISHED-TTL:P3D
REFRESH-INTERVAL:P3D
CALSCALE:GREGORIAN
BEGIN:VEVENT
DTSTART:20151020T130000Z
DTEND:20151020T170000Z
X-MICROSOFT-CDO-ALLDAYEVENT:FALSE
SUMMARY:Healthcare Recruitment & Info Session
DESCRIPTION:Healthcare Recruitment & Info Session
X-ALT-DESC;FMTTYPE=text/html:<p align="LEFT">&nbsp\;</p>\n\n<table border="1" cellpadding="7" cellspacing="0" dir="LTR" width="393">\n	<tbody>\n		<tr>\n			<td height="102" valign="TOP">\n			<p><font size="7">Healthcare </font><font size="7">Recruitment &amp\; Info Session </font></p>\n			</td>\n		</tr>\n	</tbody>\n</table>\n
LOCATION:Click here to edit... PA CareerLink York County 841 Vogelsong Road\, York\, PA 17404
UID:e.1500.1005
SEQUENCE:3
DTSTAMP:20260422T215918Z
URL:https://business.mainstreethanover.org/events/details/healthcare-recruitment-info-session-10-20-2015-1005
END:VEVENT

END:VCALENDAR
