BEGIN:VCALENDAR
VERSION:2.0
PRODID:-//ChamberMaster//Event Calendar 2.0//EN
METHOD:PUBLISH
X-PUBLISHED-TTL:P3D
REFRESH-INTERVAL:P3D
CALSCALE:GREGORIAN
BEGIN:VEVENT
DTSTART:20150614T160000Z
DTEND:20150614T200000Z
X-MICROSOFT-CDO-ALLDAYEVENT:FALSE
SUMMARY:High Rock Winery's Summer Bash 2015
DESCRIPTION:Vendors Silpada Jewels\, Massages by Amanda\, Orgami Owl\, Tupperware\, Tastefully Simple\, Miche Bags\, Moses Family  Dried Beef\, Jamberry Nails offering sale items\, cash and carry and samples by Bad Apple cidery and free wine tasting by High Rock Winery
X-ALT-DESC;FMTTYPE=text/html:Vendors Silpada Jewels\, Massages by Amanda\, Orgami Owl\, Tupperware\, Tastefully Simple\, Miche Bags\, Moses Family &nbsp\;Dried Beef\, Jamberry Nails&nbsp\;offering sale items\, cash and carry and samples by Bad Apple cidery and free wine tasting by High Rock Winery
LOCATION:High Rock Winery\, 7982 HIgh Rock Road West\, Hanover\, PA 17331
UID:e.1500.908
SEQUENCE:3
DTSTAMP:20260423T054225Z
URL:https://business.mainstreethanover.org/events/details/high-rock-winery-s-summer-bash-2015-06-14-2015-908
END:VEVENT

END:VCALENDAR
