BEGIN:VCALENDAR
VERSION:2.0
PRODID:-//ChamberMaster//Event Calendar 2.0//EN
METHOD:PUBLISH
X-PUBLISHED-TTL:P3D
REFRESH-INTERVAL:P3D
CALSCALE:GREGORIAN
BEGIN:VEVENT
DTSTART:20160612T160000Z
DTEND:20160612T200000Z
X-MICROSOFT-CDO-ALLDAYEVENT:FALSE
SUMMARY:High Rock Winery's Summer Bash 2016
DESCRIPTION:Venodrs offering discounts on commodities such as Silpada Jewels\, Scentsy\, free tasting of cidars by Bad Apple Cidery Works and free wine tasting from High Rock Winery with more vendors as commitments come in.
X-ALT-DESC;FMTTYPE=text/html:Venodrs offering discounts on commodities such as Silpada Jewels\, Scentsy\, free tasting of cidars by Bad Apple Cidery Works and free wine tasting from High Rock Winery with more vendors as commitments come in.<br />\n&nbsp\;
LOCATION:High Rock Winery\, 7982 High Rock Road West\, Hanover\, Pa 717-633-1288
UID:e.1500.1106
SEQUENCE:3
DTSTAMP:20260422T102122Z
URL:https://business.mainstreethanover.org/events/details/high-rock-winery-s-summer-bash-2016-06-12-2016-1106
END:VEVENT

END:VCALENDAR
