BEGIN:VCALENDAR
VERSION:2.0
PRODID:-//ChamberMaster//Event Calendar 2.0//EN
METHOD:PUBLISH
X-PUBLISHED-TTL:P3D
REFRESH-INTERVAL:P3D
CALSCALE:GREGORIAN
BEGIN:VEVENT
DTSTART;VALUE=DATE:20160521
DTEND;VALUE=DATE:20160522
TRANSP:TRANSPARENT
X-MICROSOFT-CDO-ALLDAYEVENT:TRUE
SUMMARY:Hillwood Museum & Estate Bus Trip
DESCRIPTION:Bus Trip Sponsored by the Hanover Area Historical Society.\n\nFor more information please visit their website at www.hahs.us
X-ALT-DESC;FMTTYPE=text/html:<span style="line-height: 20.8px\;">Bus Trip Sponsored by the Hanover Area Historical Society.</span><br style="line-height: 20.8px\;" />\n<span style="line-height: 20.8px\;">For more information please visit their website at www.hahs.us</span>
LOCATION:Hillwood Museum & Estate Washnigton\, D.C.
UID:e.1500.1062
SEQUENCE:3
DTSTAMP:20260422T114920Z
URL:https://business.mainstreethanover.org/events/details/hillwood-museum-estate-bus-trip-05-21-2016-1062
END:VEVENT

END:VCALENDAR
