BEGIN:VCALENDAR
VERSION:2.0
PRODID:-//ChamberMaster//Event Calendar 2.0//EN
METHOD:PUBLISH
X-PUBLISHED-TTL:P3D
REFRESH-INTERVAL:P3D
CALSCALE:GREGORIAN
BEGIN:VEVENT
DTSTART:20150917T153000Z
DTEND:20150917T180000Z
X-MICROSOFT-CDO-ALLDAYEVENT:FALSE
SUMMARY:Hiring\, Job Descriptions\, and Personnel File Maintenance
DESCRIPTION:Join Stock and Leader's Employment Law Group for a lunch program addressing:\n\n\n	EE Files:  What to include?  How often to update?  How long to keep?\n	Pre-Employment Checks:  References\, Drug Screens\, Criminal Background\n	HIPAA and Confidentiality\n	New Overtime Regulations\n\nLunch will begin at 11:30 a.m. followed by the program at 12:00 p.m.\n\n \n\n$50.00 registration fee and reservations are required by September 10.\n\n \n\nPlease direct payment to:\n\n \n\nStock and Leader\, Attorneys at Law\n\nAttn:  Emily Kustanbauter \n\n221 W. Philadelphia Street\, Suite 600\n\nYork\, PA  17401\n\n \n\nFor credit card payments\, please contact Emily Kustanbauter\, 717.846.9800\n\n \n\nThis program has been submitted to the HR Certification Institute for Review.\n\n \n\nNo-shows will not be refunded but will receive program materials.
X-ALT-DESC;FMTTYPE=text/html:Join <a href="http://www.stockandleader.com/">Stock and Leader&#39\;s</a> <a href="http://www.stockandleader.com/services/businesses-and-entrepreneurs/employment-and-labor-relations.aspx">Employment Law Group</a> for a lunch program addressing:\n\n<ul>\n	<li>EE Files:&nbsp\; What to include?&nbsp\; How often to update?&nbsp\; How long to keep?</li>\n	<li>Pre-Employment Checks:&nbsp\; References\, Drug Screens\, Criminal Background</li>\n	<li>HIPAA and Confidentiality</li>\n	<li>New Overtime Regulations</li>\n</ul>\nLunch will begin at 11:30 a.m. followed by the program at 12:00 p.m.<br />\n&nbsp\;<br />\n<strong>$50.00 registration fee and reservations are required by September 10.</strong><br />\n&nbsp\;<br />\n<em>Please direct payment to:<br />\n&nbsp\;<br />\nStock and Leader\, Attorneys at Law<br />\nAttn:&nbsp\; Emily Kustanbauter&nbsp\;<br />\n221 W. Philadelphia Street\, Suite 600<br />\nYork\, PA&nbsp\; 17401<br />\n&nbsp\;</em><br />\n<em>For credit card payments\, please contact Emily Kustanbauter\, 717.846.9800</em><br />\n&nbsp\;<br />\nThis program has been submitted to the HR Certification Institute for Review.<br />\n&nbsp\;<br />\nNo-shows will not be refunded but will receive program materials.
LOCATION:Country Club of York 1400 Country Club Road York\, PA 17403
UID:e.1500.937
SEQUENCE:3
DTSTAMP:20260422T231928Z
URL:https://business.mainstreethanover.org/events/details/hiring-job-descriptions-and-personnel-file-maintenance-09-17-2015-937
END:VEVENT

END:VCALENDAR
