BEGIN:VCALENDAR
VERSION:2.0
PRODID:-//ChamberMaster//Event Calendar 2.0//EN
METHOD:PUBLISH
X-PUBLISHED-TTL:P3D
REFRESH-INTERVAL:P3D
CALSCALE:GREGORIAN
BEGIN:VEVENT
DTSTART:20170605T163000Z
DTEND:20170605T230000Z
X-MICROSOFT-CDO-ALLDAYEVENT:FALSE
SUMMARY:Hoffman Homes for Youth 20th Annual Golf Benefit
DESCRIPTION:Tee Up for Hoffman Homes for Youth!  Break out your clubs and join us on the luxurious greens of the Hanover Country Club for a fun day of golf!  Start your day with some putting practice and enjoy a nice lunch before the shotgun start at 12:30 pm.  Then\, relax after 18 challenging holes of golf at our awards dinner beginning at 6:00 pm!
X-ALT-DESC;FMTTYPE=text/html:Tee Up for Hoffman Homes for Youth! &nbsp\;Break out your clubs and join us on the luxurious greens of the Hanover Country Club for a fun day of golf! &nbsp\;Start your day with some putting practice and enjoy a nice lunch before the shotgun start at 12:30 pm. &nbsp\;Then\, relax after 18 challenging holes of golf at our awards dinner beginning at 6:00 pm!<br />\n<br />\n&nbsp\;
LOCATION:Hanover Country Club 200 Water Street Abbottstown\, PA 17301
UID:e.1500.2324
SEQUENCE:3
DTSTAMP:20260421T153836Z
URL:https://business.mainstreethanover.org/events/details/hoffman-homes-for-youth-20th-annual-golf-benefit-2324
END:VEVENT

END:VCALENDAR
