BEGIN:VCALENDAR
VERSION:2.0
PRODID:-//ChamberMaster//Event Calendar 2.0//EN
METHOD:PUBLISH
X-PUBLISHED-TTL:P3D
REFRESH-INTERVAL:P3D
CALSCALE:GREGORIAN
BEGIN:VEVENT
DTSTART:20161111T130000Z
DTEND:20161112T230000Z
X-MICROSOFT-CDO-ALLDAYEVENT:FALSE
SUMMARY:HOLIDAY CRAFT BAZAAR
DESCRIPTION:Silent auction\; handmade crafts\; homemade soups\, sweets\, & baked goods. Food court serving breakfast\, lunch\, & dinner--soup by the quart. Free parking Fri. & Sat.--Trinity's S. Stratton St. Lot. also\, Sat. only--Housing Authority Lot on E. High St.\, adjacent to the church.
X-ALT-DESC;FMTTYPE=text/html:Silent auction\; handmade crafts\; homemade soups\, sweets\, &amp\; baked goods. Food court serving breakfast\, lunch\, &amp\; dinner--soup by the quart. Free parking Fri. &amp\; Sat.--Trinity&#39\;s S. Stratton St. Lot. also\, Sat. only--Housing Authority Lot on E. High St.\, adjacent to the church.
LOCATION:Trinity United Church of Christ 60 E. High St.\, Gettysburg
UID:e.1500.2271
SEQUENCE:3
DTSTAMP:20260422T021503Z
URL:https://business.mainstreethanover.org/events/details/holiday-craft-bazaar-2271
END:VEVENT

END:VCALENDAR
