BEGIN:VCALENDAR
VERSION:2.0
PRODID:-//ChamberMaster//Event Calendar 2.0//EN
METHOD:PUBLISH
X-PUBLISHED-TTL:P3D
REFRESH-INTERVAL:P3D
CALSCALE:GREGORIAN
BEGIN:VEVENT
DTSTART:20150614T170000Z
DTEND:20150614T200000Z
X-MICROSOFT-CDO-ALLDAYEVENT:FALSE
SUMMARY:Home Wine Making Class with Fresh Fruit
DESCRIPTION:Our Home Wine Making class conducted by our Wine Maker will show guests how to make wine from fresh fruit. We will take you through all the steps from crushing fruit to bottling a finished product. This class will be held in our outdoor Pavilion and does involve some hands-on steps so please dress accordingly. Reservations are required. Ticket price is $35 per guest. For more information please visit our website\, www.adamscountywinery.com\, or call 717-334-4631.
X-ALT-DESC;FMTTYPE=text/html:Our Home Wine Making class conducted by our Wine Maker will show guests how to make wine from fresh fruit. We will take you through all the steps from crushing fruit to bottling a finished product. This class will be held in our outdoor Pavilion and does involve some hands-on steps so please dress accordingly. Reservations are required. Ticket price is $35 per guest. For more information please visit our website\, www.adamscountywinery.com\, or call 717-334-4631.
LOCATION:Adams County Winery 251 Peach Tree Rd Orrtanna\, PA 17353
UID:e.1500.880
SEQUENCE:3
DTSTAMP:20260423T054226Z
URL:https://business.mainstreethanover.org/events/details/home-wine-making-class-with-fresh-fruit-06-14-2015-880
END:VEVENT

END:VCALENDAR
