BEGIN:VCALENDAR
VERSION:2.0
PRODID:-//ChamberMaster//Event Calendar 2.0//EN
METHOD:PUBLISH
X-PUBLISHED-TTL:P3D
REFRESH-INTERVAL:P3D
CALSCALE:GREGORIAN
BEGIN:VEVENT
DTSTART:20160316T123000Z
DTEND:20160316T160000Z
X-MICROSOFT-CDO-ALLDAYEVENT:FALSE
SUMMARY:HR Event hosted by O'Donnell and Barr Law Group
DESCRIPTION:Need to know the "Key Elements" to proper employee documentations and labor law updates? Take this free seminar and find out! Judy Rang\, SHRM-CP\, PHR from HR Connectivity and Amy Eyster\, Esq. from O'Donnell and Barr Law group will be speaking at a seminar on proper ways to document on-boarding\, terminations\, and employee disciplinary actions\, training\, medical leave and much more. Sponsored by O'Donnell & Barr Law Group\, LLP. Full breakfast will be served. Registration is free but seating is limited to the first 100 respondents. Please RSVP by March 7\, 2016. For more information or to reserve your spot please email kim@odonnellandbarr.com or call (717) 632-9580 ext. 1006
X-ALT-DESC;FMTTYPE=text/html:<span style="color: rgb(20\, 24\, 35)\; font-family: helvetica\, arial\, sans-serif\; font-size: 14px\; line-height: 19.32px\;">Need to know the &quot\;Key Elements&quot\; to proper employee documentations and labor law updates? Take this free seminar and find out! Judy Rang\, SHRM-CP\, PHR from HR Connectivity and Amy Eyster\, Esq. from O&#39\;Donnell and Barr Law group will be speaking at a seminar on proper ways to document on-boarding\, terminations\, and employee disciplinary actions\, training\, medical leave and much more. Sponsored by&nbsp\;</span><a class="profileLink" data-hovercard="/ajax/hovercard/page.php?id=379540618818062" href="https://www.facebook.com/ODonnell-Barr-Law-Group-LLP-379540618818062/" style="color: rgb(59\, 89\, 152)\; cursor: pointer\; text-decoration: none\; font-family: helvetica\, arial\, sans-serif\; font-size: 14px\; line-height: 19.32px\;">O&#39\;Donnell &amp\; Barr Law Group\, LLP</a><span style="color: rgb(20\, 24\, 35)\; font-family: helvetica\, arial\, sans-serif\; font-size: 14px\; line-height: 19.32px\;">. Full breakfast will be served.&nbsp\;Registration is free but seating is limited to the first 100 respondents. Please RSVP by March 7\, 2016. For more information or to reserve your spot please email kim@odonnellandbarr.com or call (717) 632-9580 ext. 1006</span>
LOCATION:Bay City Seafood Restaurant 110 Eisenhower Drive Hanover\, PA. 17331
UID:e.1500.1073
SEQUENCE:3
DTSTAMP:20260422T143443Z
URL:https://business.mainstreethanover.org/events/details/hr-event-hosted-by-o-donnell-and-barr-law-group-03-16-2016-1073
END:VEVENT

END:VCALENDAR
