BEGIN:VCALENDAR
VERSION:2.0
PRODID:-//ChamberMaster//Event Calendar 2.0//EN
METHOD:PUBLISH
X-PUBLISHED-TTL:P3D
REFRESH-INTERVAL:P3D
CALSCALE:GREGORIAN
BEGIN:VEVENT
DTSTART;VALUE=DATE:20170418
DTEND;VALUE=DATE:20170423
TRANSP:TRANSPARENT
X-MICROSOFT-CDO-ALLDAYEVENT:TRUE
SUMMARY:Imagining a Better World: The Art of Nelly Toll
DESCRIPTION:Images of paintings created by a hidden child during the Holocaust era will be on display at Art Downtown this April as\n\nthe Hanover Area Arts Guild presents Imagining a Better World: The Artwork of Nelly Toll.\n\nThe exhibit opens April 4 and can be seen during regular gallery hour at Art Downtown\, 32 Carlisle St.\, Hanover.\n\nIt continues through April 29.\n\nIn 1943\, a sympathetic Christian family hid Nelly Zygmunt and her mother from the Nazis in Lwow\, Poland. In\n\nthe next year\, Nelly created five dozen brightly colored\, detailed watercolor dreams of her ideal world. Those\n\ncreations are in stark contrast to other artwork by Holocaust children\, depictions that often are dark and\n\nforeboding.\n\nThe family that sheltered Nelly and her mother bricked over an outside window opening and placed a decorative\n\nrug over the interior. When visitors came to the apartment\, the Zygmunts had to stand on the ledge of their secret\n\nwindow to escape detection.\n\nAfter World War II\, Nelly came to the United States. What began as an escape with the watercolor set her mother\n\ngave her became her career. She earned a master's degree in art and art history and education from Rutgers\n\nUniversity. She also attended the Academy of Fine Arts in Philadelphia and received a doctorate from the\n\nUniversity of Pennsylvania. Toll has published three books on the Holocaust and related art.\n\nToday\, she lives in New Jersey with her husband\, Ervin.\n\n"Nelly dared to dream\, imagining a better world that manifested in her creation of nearly 60 watercolor\n\npaintings\," said Alexandra Nicholis Coon\, executive director of the Massillon Museum\, which has organized the\n\ntraveling exhibit. "This exhibition will present\, for visitors\, selected images of her journey of hope and\n\nimagination."\n\nImagining a Better World: The Artwork of Nelly Toll is organized by the Massillon Museum\, Massillon\, Ohio\,\n\nwith support from the Institute of Museum and Library Services.
X-ALT-DESC;FMTTYPE=text/html:<p>Images of paintings created by a hidden child during the Holocaust era will be on display at Art Downtown this April as</p>\n\n<p>the Hanover Area Arts Guild presents Imagining a Better World: The Artwork of Nelly Toll.</p>\n\n<p>The exhibit opens April 4 and can be seen during regular gallery hour at Art Downtown\, 32 Carlisle St.\, Hanover.</p>\n\n<p>It continues through April 29.</p>\n\n<p>In 1943\, a sympathetic Christian family hid Nelly Zygmunt and her mother from the Nazis in Lwow\, Poland. In</p>\n\n<p>the next year\, Nelly created five dozen brightly colored\, detailed watercolor dreams of her ideal world. Those</p>\n\n<p>creations are in stark contrast to other artwork by Holocaust children\, depictions that often are dark and</p>\n\n<p>foreboding.</p>\n\n<p>The family that sheltered Nelly and her mother bricked over an outside window opening and placed a decorative</p>\n\n<p>rug over the interior. When visitors came to the apartment\, the Zygmunts had to stand on the ledge of their secret</p>\n\n<p>window to escape detection.</p>\n\n<p>After World War II\, Nelly came to the United States. What began as an escape with the watercolor set her mother</p>\n\n<p>gave her became her career. She earned a master&rsquo\;s degree in art and art history and education from Rutgers</p>\n\n<p>University. She also attended the Academy of Fine Arts in Philadelphia and received a doctorate from the</p>\n\n<p>University of Pennsylvania. Toll has published three books on the Holocaust and related art.</p>\n\n<p>Today\, she lives in New Jersey with her husband\, Ervin.</p>\n\n<p>&ldquo\;Nelly dared to dream\, imagining a better world that manifested in her creation of nearly 60 watercolor</p>\n\n<p>paintings\,&rdquo\; said Alexandra Nicholis Coon\, executive director of the Massillon Museum\, which has organized the</p>\n\n<p>traveling exhibit. &ldquo\;This exhibition will present\, for visitors\, selected images of her journey of hope and</p>\n\n<p>imagination.&rdquo\;</p>\n\n<p>Imagining a Better World: The Artwork of Nelly Toll is organized by the Massillon Museum\, Massillon\, Ohio\,</p>\n\n<p>with support from the Institute of Museum and Library Services.</p>\n
LOCATION:Art Downtown The gallery of the Hanover Area Arts Guild 32 Carlisle St. Hanover\, Pa. 17331 Just steps off the Square in historic Hanover
UID:e.1500.2506
SEQUENCE:3
DTSTAMP:20260421T184818Z
URL:https://business.mainstreethanover.org/events/details/imagining-a-better-world-the-art-of-nelly-toll-2506
END:VEVENT

END:VCALENDAR
