BEGIN:VCALENDAR
VERSION:2.0
PRODID:-//ChamberMaster//Event Calendar 2.0//EN
METHOD:PUBLISH
X-PUBLISHED-TTL:P3D
REFRESH-INTERVAL:P3D
CALSCALE:GREGORIAN
BEGIN:VEVENT
DTSTART:20150909T110000Z
DTEND:20150909T200000Z
X-MICROSOFT-CDO-ALLDAYEVENT:FALSE
SUMMARY:In the Bag Purse Sale
DESCRIPTION:The Hanover Hospital Auxiliary will host an "In the Bag" Purse Sale
X-ALT-DESC;FMTTYPE=text/html:<span style="font-family: &quot\;Calibri&quot\;\,&quot\;sans-serif&quot\;\; font-size: 11pt\; mso-fareast-font-family: Calibri\; mso-fareast-theme-font: minor-latin\; mso-ansi-language: EN-US\; mso-fareast-language: EN-US\; mso-bidi-language: AR-SA\;"><font color="#000000">The Hanover Hospital Auxiliary will host an &ldquo\;In the Bag&rdquo\; Purse Sale </font></span>
LOCATION:Hanover Hospital\, Conference Room M\, located on the first floor near the Main Lobby.
UID:e.1500.969
SEQUENCE:3
DTSTAMP:20260422T232009Z
URL:https://business.mainstreethanover.org/events/details/in-the-bag-purse-sale-09-09-2015-969
END:VEVENT

END:VCALENDAR
