BEGIN:VCALENDAR
VERSION:2.0
PRODID:-//ChamberMaster//Event Calendar 2.0//EN
METHOD:PUBLISH
X-PUBLISHED-TTL:P3D
REFRESH-INTERVAL:P3D
CALSCALE:GREGORIAN
BEGIN:VEVENT
DTSTART:20170510T200000Z
DTEND:20170510T213000Z
X-MICROSOFT-CDO-ALLDAYEVENT:FALSE
SUMMARY:Industrial Manufacturing Technician Ribbon Cutting/Information Session
DESCRIPTION:Are you a manufacturer unsure of where your next generation of skilled workers is coming from?  Are you a school administrator with high school seniors\, uncertain of their path towards gainful employment post-graduation?\n\nWe are pleased to announce that HACC Gettysburg Campus will be hosting one of the inaugural Industrial Manufacturing Technician Apprenticeship classes starting June 2017!  This apprenticeship program\, the first certified in the Commonwealth\, is a hybrid registered apprenticeship program that provides production workers with the knowledge and competencies needed in the advanced manufacturing environment.  An 18 month (or 3\,000 hour) program\, individuals are trained to: \n\n	Set up\, operate\, monitor\, and control production equipment\n	Help improve manufacturing processes and schedules to meet customer requirements\n	Understand manufacturing as a business system that integrates multiple disciplines\, processes\, and stakeholders\n	Efficiently and safely manage raw materials and consumables
X-ALT-DESC;FMTTYPE=text/html:Are you a manufacturer unsure of where your next generation of skilled workers is coming from?&nbsp\; Are you a school administrator with high school seniors\, uncertain of their path towards gainful employment post-graduation?<br />\nWe are pleased to announce that HACC Gettysburg Campus will be hosting one of the inaugural Industrial Manufacturing Technician Apprenticeship classes starting June 2017!&nbsp\; This apprenticeship program\, the first certified in the Commonwealth\, is a hybrid registered apprenticeship program that provides production workers with the knowledge and competencies needed in the advanced manufacturing environment.&nbsp\; An 18 month (or 3\,000 hour) program\, individuals are trained to:&nbsp\;\n<ul>\n	<li>Set up\, operate\, monitor\, and control production equipment</li>\n	<li>Help improve manufacturing processes and schedules to meet customer requirements</li>\n	<li>Understand manufacturing as a business system that integrates multiple disciplines\, processes\, and stakeholders</li>\n	<li>Efficiently and safely manage raw materials and consumables</li>\n</ul>\n
LOCATION:HACC-Gettysburg Campus\, the Robert C. Hoffman Community Room
UID:e.1500.2927
SEQUENCE:3
DTSTAMP:20260421T171732Z
URL:https://business.mainstreethanover.org/events/details/industrial-manufacturing-technician-ribbon-cutting-information-session-2927
END:VEVENT

END:VCALENDAR
