BEGIN:VCALENDAR
VERSION:2.0
PRODID:-//ChamberMaster//Event Calendar 2.0//EN
METHOD:PUBLISH
X-PUBLISHED-TTL:P3D
REFRESH-INTERVAL:P3D
CALSCALE:GREGORIAN
BEGIN:VEVENT
DTSTART:20150512T113000Z
DTEND:20150512T130000Z
X-MICROSOFT-CDO-ALLDAYEVENT:FALSE
SUMMARY:Interviews with Inspiring Women Series
DESCRIPTION:Featuring: Dr. Barbara Rupp\, Superintendent\, South Western School District\n\nWe invite you to gather with us for a time of fellowship and networking\, to hear South Western School District's Superintendent\, Dr. Barbara Rupp words of inspiration to help\, guide\, motivate and encourage us. To further the inspiration\, there will also be a time of audience Question & Answer. This event is free. Breakfast is complimentary.
X-ALT-DESC;FMTTYPE=text/html:<strong><em>Featuring: Dr. Barbara Rupp\, Superintendent\, South Western School District</em></strong><br />\nWe invite you to gather with us for a time of fellowship and networking\, to hear South Western School District&#39\;s Superintendent\, Dr. Barbara Rupp words of inspiration to help\, guide\, motivate and encourage us. To further the inspiration\, there will also be a time of audience Question &amp\; Answer. This event is free. Breakfast is complimentary.
LOCATION:The event will be held at Hanover Country Club - 200 E. Water St.\, Abbottstown\, PA 17301.
UID:e.1500.905
SEQUENCE:3
DTSTAMP:20260423T074058Z
URL:https://business.mainstreethanover.org/events/details/interviews-with-inspiring-women-series-05-12-2015-905
END:VEVENT

END:VCALENDAR
