BEGIN:VCALENDAR
VERSION:2.0
PRODID:-//ChamberMaster//Event Calendar 2.0//EN
METHOD:PUBLISH
X-PUBLISHED-TTL:P3D
REFRESH-INTERVAL:P3D
CALSCALE:GREGORIAN
BEGIN:VEVENT
DTSTART;VALUE=DATE:20161004
DTEND;VALUE=DATE:20161029
TRANSP:TRANSPARENT
X-MICROSOFT-CDO-ALLDAYEVENT:TRUE
SUMMARY:Invitational Exhibit
DESCRIPTION:They aren't rookies.\n\nThis quartet knows art.\n\nIt's part of their DNA.\n\nDuring October\, Art Downtown hosts an Invitational Exhibit featuring four longtime artists:\n\nGary Gasowski\, Barbara H. Geesey\, Steven Nevada and Rebecca Yates Shorb. While they have\n\ncombined forces for the exhibit\, their styles and backgrounds are unique.\n\nThe artwork of the quartet will be on display throughout October.\n\nAn artists' reception is planned 2-5 p.m. Oct. 23 at Art Downtown. It is open to the public.\n\nIt can be see during regular gallery hours: 10 a.m.-5 p.m. Tuesday-Thursday\, 10 a.m.-7 p.m.\n\nFriday\, and 10 a.m.-3 p.m. Saturday.\n\nThe gallery of Art Downtown\, 32 Carlisle St.\, Hanover\, is always free.
X-ALT-DESC;FMTTYPE=text/html:They aren&rsquo\;t rookies.<br />\nThis quartet knows art.<br />\nIt&rsquo\;s part of their DNA.<br />\nDuring October\, Art Downtown hosts an Invitational Exhibit featuring four longtime artists:<br />\nGary Gasowski\, Barbara H. Geesey\, Steven Nevada and Rebecca Yates Shorb. While they have<br />\ncombined forces for the exhibit\, their styles and backgrounds are unique.<br />\nThe artwork of the quartet will be on display throughout October.<br />\nAn artists&rsquo\; reception is planned 2-5 p.m. Oct. 23 at Art Downtown. It is open to the public.<br />\nIt can be see during regular gallery hours: 10 a.m.-5 p.m. Tuesday-Thursday\, 10 a.m.-7 p.m.<br />\nFriday\, and 10 a.m.-3 p.m. Saturday.<br />\nThe gallery of Art Downtown\, 32 Carlisle St.\, Hanover\, is always free.
LOCATION:Art Downtown\, the gallery of the Hanover Area Arts Guild 32 Carlisle St. Hanover\, Pa. 17331
UID:e.1500.1255
SEQUENCE:3
DTSTAMP:20260422T035618Z
URL:https://business.mainstreethanover.org/events/details/invitational-exhibit-1255
END:VEVENT

END:VCALENDAR
