BEGIN:VCALENDAR
VERSION:2.0
PRODID:-//ChamberMaster//Event Calendar 2.0//EN
METHOD:PUBLISH
X-PUBLISHED-TTL:P3D
REFRESH-INTERVAL:P3D
CALSCALE:GREGORIAN
BEGIN:VEVENT
DTSTART:20170823T160000Z
DTEND:20170823T173000Z
X-MICROSOFT-CDO-ALLDAYEVENT:FALSE
SUMMARY:Jessica & Friends Ribbon Cutting
DESCRIPTION:Ribbon Cutting with light lunch\, please RSVP to Sandy Myers at sandymyers@jandfcommunity.org OR (717) 797-4623.
X-ALT-DESC;FMTTYPE=text/html:Ribbon Cutting with light lunch\, please RSVP to Sandy Myers at sandymyers@jandfcommunity.org OR (717) 797-4623.&nbsp\;
LOCATION:1157 Eichelberger Street - Hanover\, PA 17331- Street Level (please see balloons when you pull in).
UID:e.1500.2941
SEQUENCE:3
DTSTAMP:20260421T135834Z
URL:https://business.mainstreethanover.org/events/details/jessica-friends-ribbon-cutting-2941
END:VEVENT

END:VCALENDAR
