BEGIN:VCALENDAR
VERSION:2.0
PRODID:-//ChamberMaster//Event Calendar 2.0//EN
METHOD:PUBLISH
X-PUBLISHED-TTL:P3D
REFRESH-INTERVAL:P3D
CALSCALE:GREGORIAN
BEGIN:VEVENT
DTSTART:20170503T110000Z
DTEND:20170505T230000Z
X-MICROSOFT-CDO-ALLDAYEVENT:FALSE
SUMMARY:Jewelry & Accessory Sale
DESCRIPTION:$5 Dollar jewelry & accessory sale.
X-ALT-DESC;FMTTYPE=text/html:$5 Dollar jewelry &amp\; accessory sale.
LOCATION:St. Mark Lutheran Church 129 Charles Street Hanover\, PA 17331
UID:e.1500.2502
SEQUENCE:3
DTSTAMP:20260421T171558Z
URL:https://business.mainstreethanover.org/events/details/jewelry-accessory-sale-2502
END:VEVENT

END:VCALENDAR
