BEGIN:VCALENDAR
VERSION:2.0
PRODID:-//ChamberMaster//Event Calendar 2.0//EN
METHOD:PUBLISH
X-PUBLISHED-TTL:P3D
REFRESH-INTERVAL:P3D
CALSCALE:GREGORIAN
BEGIN:VEVENT
DTSTART:20170402T163000Z
DTEND:20170402T180000Z
X-MICROSOFT-CDO-ALLDAYEVENT:FALSE
SUMMARY:Joann Baum Memorial Fashion Show and Luncheon
DESCRIPTION:Hanover Hospital Auxiliary Event:\n\n\n\nIn JoAnn's memory\, proceeds will go toward the Pulmonary Department to enhance diagnostic evaluations for earlier lung cancer diagnoses. Fashions will be provided by : Juli Cavanaugh\, independent cabi stylist\, LulaRoe Where Fashion Meets Comfort\, Hanover Hospital Hospitality Shop\, Furs by Susan\, Hanover Clothing\, Treasures\, Ashley Lauren Fine Jewelers and Stonewell Silk Textiles.
X-ALT-DESC;FMTTYPE=text/html:Hanover Hospital Auxiliary Event:<br />\n<br />\nIn JoAnn&#39\;s memory\, proceeds will go toward the Pulmonary Department to enhance diagnostic evaluations for earlier lung cancer diagnoses. Fashions will be provided by : Juli&nbsp\;Cavanaugh\, independent cabi stylist\, LulaRoe&nbsp\;Where Fashion Meets Comfort\, Hanover Hospital Hospitality Shop\, Furs by Susan\, Hanover Clothing\, Treasures\, Ashley Lauren Fine Jewelers and Stonewell Silk Textiles.
LOCATION:Hanover Country Club 200 Water St\, Abbottstown\, PA 17301
UID:e.1500.2495
SEQUENCE:3
DTSTAMP:20260421T184711Z
URL:https://business.mainstreethanover.org/events/details/joann-baum-memorial-fashion-show-and-luncheon-2495
END:VEVENT

END:VCALENDAR
