BEGIN:VCALENDAR
VERSION:2.0
PRODID:-//ChamberMaster//Event Calendar 2.0//EN
METHOD:PUBLISH
X-PUBLISHED-TTL:P3D
REFRESH-INTERVAL:P3D
CALSCALE:GREGORIAN
BEGIN:VEVENT
DTSTART:20160512T140000Z
DTEND:20160512T160000Z
X-MICROSOFT-CDO-ALLDAYEVENT:FALSE
SUMMARY:Job Fair
DESCRIPTION:New Hope Ministries will host a job fair where local employers will be on hand to speak to interested candidates about various employment opportunities.
X-ALT-DESC;FMTTYPE=text/html:New Hope Ministries will host a job fair where local employers will be on hand to speak to interested candidates about various employment opportunities.
LOCATION:New Hope Ministries Hanover Center 135 Baltimore Street Hanover\, PA. 17331
UID:e.1500.1110
SEQUENCE:3
DTSTAMP:20260422T114551Z
URL:https://business.mainstreethanover.org/events/details/job-fair-05-12-2016-1110
END:VEVENT

END:VCALENDAR
