BEGIN:VCALENDAR
VERSION:2.0
PRODID:-//ChamberMaster//Event Calendar 2.0//EN
METHOD:PUBLISH
X-PUBLISHED-TTL:P3D
REFRESH-INTERVAL:P3D
CALSCALE:GREGORIAN
BEGIN:VEVENT
DTSTART:20170210T183000Z
DTEND:20170210T233000Z
X-MICROSOFT-CDO-ALLDAYEVENT:FALSE
SUMMARY:Job Fair at the York Builders Association Home and Garden Show
DESCRIPTION:On Friday\, February 10\, during the opening day of the York Builders Association's (YBA) 49th Annual Home and Garden Show\, YBA will host a job fair at the UTZ Arena\, York Expo Center\, from 1:30 pm   6:30 pm   with the help of presenting sponsor\, Schmuck Lumber Co.\n\n \n\nJob seekers will have the opportunity to meet with local building industry related companies that are hiring\, who will be pre-screening candidates on the spot as well as taking resumes and applications. It is recommended attendees bring copies of their updated resume and have a self-promoting pitch prepared.\n\n \n\nYBA is very excited to be able to offer an opportunity for the public to meet with member businesses and partners who are looking for employees. Companies in attendance span a wide range of sectors and have a variety of jobs to offer including: Carpentry\, Electrical\, Plumbing\, Masonry\, a variety of 'In-House' office jobs\, apprentice programs and more.\n\n \n\nIn 2017\, more than 2 million new craft professionals will be needed in the industry\, and with the current shortage of qualified\, trained individuals\, the demand will continue to grow. This job fair is also for students and young adults who are interested in finding out more about the types of careers available in the building industry.\n\n \n\n"The construction industry is booming again with many rewarding\, well-paying career opportunities available from a variety of YBA Members." - Bob Myers\, John H. Myers & Son.\n\n \n\nWe invite attendees to pre-register online at www.ybajobfair.weebly.com for a chance to win one of a variety of door prizes including tools\, services\, gift cards\, or professional development assistance.\n\n \n\nAlso listed on the job fair website are resource links for suggestions on topics such as\, 'How to ace a job interview' and also a list of recommendations for how to prepare for the fair itself. Job seekers may also find a listing of job postings from YBA's members and an informational page delving into the actions\, vision and mission of the York Builders Association.\n\n \n\nYBA has partnered with their presenting sponsor\, Schmuck Lumber Company\, in promoting this year's job fair.\n\nwww.ybajobfair.weebly.com
X-ALT-DESC;FMTTYPE=text/html:<span style="font-family:open sans\;"><span style="font-size:12.0pt\;">On Friday\, February 10\, during the opening day of the York Builders Association&rsquo\;s (YBA) 49<sup>th</sup> Annual Home and Garden Show\, YBA will host a job fair at the UTZ Arena\, York Expo Center\, from 1:30 pm &ndash\; 6:30 pm &ndash\; with the help of presenting sponsor\, Schmuck Lumber Co.</span></span><br />\n&nbsp\;<br />\n<span style="font-family:open sans\;"><span style="font-size:12.0pt\;">Job seekers will have the opportunity to meet with local building industry related companies that are hiring\, who will be pre-screening candidates on the spot as well as taking resumes and applications. It is recommended attendees bring copies of their updated resume and have a self-promoting pitch prepared.</span></span><br />\n&nbsp\;<br />\n<span style="font-family:open sans\;"><span style="font-size:12.0pt\;">YBA is very excited to be able to offer an opportunity for the public to meet with member businesses and partners who are looking for employees. Companies in attendance span a wide range of sectors and have a variety of jobs to offer including: Carpentry\, Electrical\, Plumbing\, Masonry\, a variety of &lsquo\;In-House&rsquo\; office jobs\, apprentice programs and more.</span></span><br />\n&nbsp\;<br />\n<span style="font-family:open sans\;"><span style="font-size:12.0pt\;">In 2017\, more than 2 million new craft professionals will be needed in the industry\, and with the current shortage of qualified\, trained individuals\, the demand will continue to grow. This job fair is also for students and young adults who are interested in finding out more about the types of careers available in the building industry.</span></span><br />\n&nbsp\;<br />\n<span style="font-family:open sans\;"><span style="font-size:12.0pt\;">&ldquo\;The construction industry is booming again with many rewarding\, well-paying career opportunities available from a variety of YBA Members.&rdquo\; - Bob Myers\, <a name="_gjdgxs"></a>John H. Myers &amp\; Son.</span></span><br />\n&nbsp\;<br />\n<span style="font-family:open sans\;"><span style="font-size:12.0pt\;">We invite attendees to pre-register online at <a href="http://www.ybajobfair.weebly.com">www.ybajobfair.weebly.com</a> for a chance to win one of a variety of door prizes including tools\, services\, gift cards\, or professional development assistance.</span></span><br />\n&nbsp\;<br />\n<span style="font-family:open sans\;"><span style="font-size:12.0pt\;">Also listed on the job fair website are resource links for suggestions on topics such as\, &lsquo\;How to ace a job interview&rsquo\; and also a list of recommendations for how to prepare for the fair itself. Job seekers may also find a listing of job postings from YBA&rsquo\;s members and an informational page delving into the actions\, vision and mission of the York Builders Association.</span></span><br />\n&nbsp\;<br />\n<span style="font-family:open sans\;"><span style="font-size:12.0pt\;">YBA has partnered with their presenting sponsor\, Schmuck Lumber Company\, in promoting this year&rsquo\;s job fair.</span></span><br />\n<span style="font-family:open sans\;"><span style="font-size:12.0pt\;"><a href="http://www.ybajobfair.weebly.com">www.ybajobfair.weebly.com</a></span></span>
LOCATION:UTZ Arena at York Expo Center\, York Fair
UID:e.1500.2321
SEQUENCE:3
DTSTAMP:20260421T213653Z
URL:https://business.mainstreethanover.org/events/details/job-fair-at-the-york-builders-association-home-and-garden-show-2321
END:VEVENT

END:VCALENDAR
