BEGIN:VCALENDAR
VERSION:2.0
PRODID:-//ChamberMaster//Event Calendar 2.0//EN
METHOD:PUBLISH
X-PUBLISHED-TTL:P3D
REFRESH-INTERVAL:P3D
CALSCALE:GREGORIAN
BEGIN:VEVENT
DTSTART:20180523T200000Z
DTEND:20180523T230000Z
X-MICROSOFT-CDO-ALLDAYEVENT:FALSE
SUMMARY:JOB JAMBOREE at DIAL-A-TEMP
DESCRIPTION:JOB JAMBOREE\n\nWednesday\, May 23\, 2018\n\n4pm-7pm\n\n180 Centennial Ave\, Hanover\, PA 17331\n\n717-632-1087\n\n\n\n50+ JOB OPENINGS!\n\n\n\nJOB SEEKERS WELCOME!\n\n\n\nON-THE-SPOT INTERVIEWS!\n\n\n\nHIRING ALL SHIFTS! $10-21\n\n\n\nRECRUITING FOR:\n\nWelders\, Assemblers\, Forklift\, Machine Operators\, Warehouse Associates\, Laser Operators\, Clean Room Ops\, Press Brake Ops\, Material Handler\, Supervisor\, Inspector/Machine Operator\, Entry Level Maintenance Mechanic\, Logistics Assistant and many more...\n\n\n\nENJOY THE MUSIC\, GRAB A BITE\, AND MEET OUR GREAT STAFF! WE LOOK FORWARD TO SEEING YOU THERE!\n\n\n\nIf you're unable to make it to the Job Jamboree\, stop in our office any time Monday thru Friday 8am-4:30pm.
X-ALT-DESC;FMTTYPE=text/html:<span style="color:rgb(34\, 34\, 34)\; font-family:bitstream vera serif\,times new roman\,serif\; font-size:medium">JOB JAMBOREE</span><br />\n<span style="color:rgb(34\, 34\, 34)\; font-family:bitstream vera serif\,times new roman\,serif\; font-size:medium">Wednesday\, May 23\, 2018</span><br />\n<span style="color:rgb(34\, 34\, 34)\; font-family:bitstream vera serif\,times new roman\,serif\; font-size:medium">4pm-7pm</span><br />\n<span style="color:rgb(34\, 34\, 34)\; font-family:bitstream vera serif\,times new roman\,serif\; font-size:medium">180 Centennial Ave\, Hanover\, PA 17331<br />\n717-632-1087</span><br />\n<br />\n<span style="color:rgb(34\, 34\, 34)\; font-family:bitstream vera serif\,times new roman\,serif\; font-size:medium">50+ JOB OPENINGS!</span><br />\n<br />\n<span style="color:rgb(34\, 34\, 34)\; font-family:bitstream vera serif\,times new roman\,serif\; font-size:medium">JOB SEEKERS WELCOME!</span><br />\n<br />\n<span style="color:rgb(34\, 34\, 34)\; font-family:bitstream vera serif\,times new roman\,serif\; font-size:medium">ON-THE-SPOT INTERVIEWS!</span><br />\n<br />\n<span style="color:rgb(34\, 34\, 34)\; font-family:bitstream vera serif\,times new roman\,serif\; font-size:medium">HIRING ALL SHIFTS! $10-21</span><br />\n<br />\n<span style="color:rgb(34\, 34\, 34)\; font-family:bitstream vera serif\,times new roman\,serif\; font-size:medium">RECRUITING FOR:</span><br />\n<span style="color:rgb(34\, 34\, 34)\; font-family:bitstream vera serif\,times new roman\,serif\; font-size:medium">Welders\, Assemblers\, Forklift\, Machine Operators\, Warehouse Associates\, Laser Operators\, Clean Room Ops\, Press Brake Ops\, Material Handler\, Supervisor\, Inspector/Machine Operator\, Entry Level Maintenance Mechanic\, Logistics Assistant and many more...</span><br />\n<br />\n<span style="color:rgb(34\, 34\, 34)\; font-family:bitstream vera serif\,times new roman\,serif\; font-size:medium">ENJOY THE MUSIC\, GRAB A BITE\, AND MEET OUR GREAT STAFF! WE LOOK FORWARD TO SEEING YOU THERE!</span><br />\n<br />\n<span style="color:rgb(34\, 34\, 34)\; font-family:bitstream vera serif\,times new roman\,serif\; font-size:medium">If you&#39\;re unable to make it to the Job Jamboree\, stop in our office any time Monday thru Friday 8am-4:30pm.</span>
LOCATION:Dial-A-Temp 180 Centennial Ave Hanover\, PA 17331 www.dialatemp.net
UID:e.1500.4250
SEQUENCE:3
DTSTAMP:20260420T215352Z
URL:https://business.mainstreethanover.org/events/details/job-jamboree-at-dial-a-temp-4250
END:VEVENT

END:VCALENDAR
