BEGIN:VCALENDAR
VERSION:2.0
PRODID:-//ChamberMaster//Event Calendar 2.0//EN
METHOD:PUBLISH
X-PUBLISHED-TTL:P3D
REFRESH-INTERVAL:P3D
CALSCALE:GREGORIAN
BEGIN:VEVENT
DTSTART:20170511T120000Z
DTEND:20170511T133000Z
X-MICROSOFT-CDO-ALLDAYEVENT:FALSE
SUMMARY:Key Strategies for Effective Networking to Getting the Appointment.
DESCRIPTION:Key Strategies for Effective Networking to Getting the Appointment presented by Donald Shores & Lisanne Gray\n\n \n\nLearn:\n\n	What is networking?\n	Challenges to Networking\n	What not to do when networking\n	Strategies to use getting the appointment\n	Building rapport with new people\n	Role playing for success.
X-ALT-DESC;FMTTYPE=text/html:<span style="font-size:12.0pt\;">Key Strategies for Effective Networking to Getting the Appointment presented by Donald Shores &amp\; Lisanne Gray</span><br />\n&nbsp\;<br />\n<span style="font-size:12.0pt\;">Learn:</span>\n<ul>\n	<li><span style="font-size:12.0pt\;">What is networking?</span></li>\n	<li><span style="font-size:12.0pt\;">Challenges to Networking</span></li>\n	<li><span style="font-size:12.0pt\;">What not to do when networking</span></li>\n	<li><span style="font-size:12.0pt\;">Strategies to use getting the appointment</span></li>\n	<li><span style="font-size:12.0pt\;">Building rapport with new people</span></li>\n	<li><span style="font-size:12.0pt\;">Role playing for success.</span></li>\n</ul>\n
LOCATION:Hanover Chamber of Commerce Office 146 Carlisle Street Hanover\, PA 17331
UID:e.1500.2325
SEQUENCE:3
DTSTAMP:20260421T171725Z
URL:https://business.mainstreethanover.org/events/details/key-strategies-for-effective-networking-to-getting-the-appointment-2325
END:VEVENT

END:VCALENDAR
