BEGIN:VCALENDAR
VERSION:2.0
PRODID:-//ChamberMaster//Event Calendar 2.0//EN
METHOD:PUBLISH
X-PUBLISHED-TTL:P3D
REFRESH-INTERVAL:P3D
CALSCALE:GREGORIAN
BEGIN:VEVENT
DTSTART:20170323T120000Z
DTEND:20170323T140000Z
X-MICROSOFT-CDO-ALLDAYEVENT:FALSE
SUMMARY:Key Strategies for Powerful Presentations
DESCRIPTION:Key Strategies for Powerful Presentations\, presented by Grace Elsner of Organization Development & Training\n\n\n\nWould you like to be able to motivate\, persuade and capture the attention of your audience?  Join us to learn some of the key skills and strategies to speak powerfully to an audience of one or one thousand.
X-ALT-DESC;FMTTYPE=text/html:<strong>Key Strategies for Powerful Presentations\, presented by Grace Elsner of Organization Development &amp\; Training</strong><br />\n<br />\n<strong>Would you like to be able to motivate\, persuade and capture the attention of your audience?&nbsp\; Join us to learn some of the key skills and strategies to speak powerfully to an audience of one or one thousand.</strong>
LOCATION:Hanover Chamber of Commerce Office 146 Carlisle Street Hanover\, PA 17331
UID:e.1500.2275
SEQUENCE:3
DTSTAMP:20260421T213052Z
URL:https://business.mainstreethanover.org/events/details/key-strategies-for-powerful-presentations-2275
END:VEVENT

END:VCALENDAR
