BEGIN:VCALENDAR
VERSION:2.0
PRODID:-//ChamberMaster//Event Calendar 2.0//EN
METHOD:PUBLISH
X-PUBLISHED-TTL:P3D
REFRESH-INTERVAL:P3D
CALSCALE:GREGORIAN
BEGIN:VEVENT
DTSTART:20150529T160000Z
DTEND:20150615T160000Z
X-MICROSOFT-CDO-ALLDAYEVENT:FALSE
SUMMARY:Kiwanis Club of Hanover Blueberry Sale
DESCRIPTION:KIWANIS CLUB OF HANOVER\n\nBLUEBERRY SALE\n\n10 Pound Box for $32\n\nBox Yields Approximately 13.5 Pints\n\nPicked Within 24 Hours of Delivery\n\nOrder Now for Early July Delivery!
X-ALT-DESC;FMTTYPE=text/html:<p align="LEFT"><font color="#000081" face="ArialMT" size="6"><font color="#000081" face="ArialMT" size="6"><font color="#000081" face="ArialMT" size="6">KIWANIS CLUB OF HANOVER</font></font></font></p>\n\n<p align="LEFT"><b><font color="#000081" face="BritannicBold" size="7"><font color="#000081" face="BritannicBold" size="7"><font color="#000081" face="BritannicBold" size="7">BLUEBERRY SALE</font></font></font></b></p>\n\n<p align="LEFT"><font color="#000081" face="Arial-Black" size="5"><font color="#000081" face="Arial-Black" size="5"><font color="#000081" face="Arial-Black" size="5">10 Pound Box for $32</font></font></font></p>\n\n<p align="LEFT"><font color="#008181" face="Arial-Black" size="5"><font color="#008181" face="Arial-Black" size="5"><font color="#008181" face="Arial-Black" size="5">Box Yields Approximately 13.5 Pints</font></font></font></p>\n\n<p align="LEFT"><font color="#008181" face="Arial-Black" size="5"><font color="#008181" face="Arial-Black" size="5"><font color="#008181" face="Arial-Black" size="5">Picked Within 24 Hours of Delivery</font></font></font></p>\n\n<p><font color="#ff0000" face="Arial-Black" size="5"><font color="#ff0000" face="Arial-Black" size="5"><font color="#ff0000" face="Arial-Black" size="5">Order Now for Early July Delivery!</font></font></font></p>\n
LOCATION:Orders are to be picked up at South Western High School main entrance 225 Bowman Road\, Hanover after we contact you about the delivery date & time.
UID:e.1500.930
SEQUENCE:3
DTSTAMP:20260423T041328Z
URL:https://business.mainstreethanover.org/events/details/kiwanis-club-of-hanover-blueberry-sale-05-29-2015-930
END:VEVENT

END:VCALENDAR
