BEGIN:VCALENDAR
VERSION:2.0
PRODID:-//ChamberMaster//Event Calendar 2.0//EN
METHOD:PUBLISH
X-PUBLISHED-TTL:P3D
REFRESH-INTERVAL:P3D
CALSCALE:GREGORIAN
BEGIN:VEVENT
DTSTART:20180417T150000Z
DTEND:20180417T170000Z
X-MICROSOFT-CDO-ALLDAYEVENT:FALSE
SUMMARY:Kona Ice Hosts National "Chill Out" Day
DESCRIPTION:The island-inspired truck will be parked at the Hanover Center Square and then the Weis Markets #16 in Hanover to hand out FREE cups of tropical shaved ice to all who stop by. The refreshing treat will ensure that there is no taxation without relaxation this tax season. National "Chill Out" Day is one of the many ways Kona Ice is encouraging the nation to take a step back\, relax and enjoy a Kona. National "Chill Out" Day is one small\, yet powerful\, way the brand hopes to put a smile on people's faces. Through partnerships with schools\, youth sports leagues and other neighborhood organizations\, Kona Ice has given back more than $50 million to the communities it serves. To learn more about Kona Ice's giveback efforts\, visit: http://www.kona-ice.com/giveback-programs/
X-ALT-DESC;FMTTYPE=text/html:The island-inspired truck will be parked at the Hanover Center Square and then the Weis Markets #16 in Hanover to hand out FREE cups of tropical shaved ice to all who stop by. The refreshing treat will ensure that there is no taxation without relaxation this tax season. National &ldquo\;Chill Out&rdquo\; Day is one of the many ways Kona Ice is encouraging the nation to take a step back\, relax and enjoy a Kona. National &ldquo\;Chill Out&rdquo\; Day is one small\, yet powerful\, way the brand hopes to put a smile on people&rsquo\;s faces. Through partnerships with schools\, youth sports leagues and other neighborhood organizations\, Kona Ice has given back more than $50 million to the communities it serves. To learn more about Kona Ice&rsquo\;s giveback efforts\, visit: http://www.kona-ice.com/giveback-programs/
LOCATION:The Hanover Center Square
UID:e.1500.4220
SEQUENCE:3
DTSTAMP:20260420T233846Z
URL:https://business.mainstreethanover.org/events/details/kona-ice-hosts-national-chill-out-day-4220
END:VEVENT

END:VCALENDAR
