BEGIN:VCALENDAR
VERSION:2.0
PRODID:-//ChamberMaster//Event Calendar 2.0//EN
METHOD:PUBLISH
X-PUBLISHED-TTL:P3D
REFRESH-INTERVAL:P3D
CALSCALE:GREGORIAN
BEGIN:VEVENT
DTSTART:20151001T223000Z
DTEND:20151002T010000Z
X-MICROSOFT-CDO-ALLDAYEVENT:FALSE
SUMMARY:Late Night First Thursday: Autos In Acrylics
DESCRIPTION:As automotive enthusiasts many of us have automobile related art hanging on the walls of our home\, office or garage. Have you ever wondered how your favorite piece of art came to be? How an artist with tubes of paint and a little imagination turn a blank canvas into a work of art? What tools and techniques are applied to that blank\, white space transforming it into something brilliant\, colorful\, textured and seemingly 3-dimensional? Automotive artist Dan Reed will explain how its done Thursday evening October 1st at 6:30 PM.\n\nReed will be having a display of his work here at the AACA Museum throughout the fall including during AACA Hershey Fall Meet Week when we have thousands of enthusiasts visit the Museum.\n\nhttp://www.danreedillustration.com/
X-ALT-DESC;FMTTYPE=text/html:<p style="color: rgb(34\, 34\, 34)\; line-height: normal\; font-family: arial\, sans-serif\; font-size: 12.8px\;">As automotive enthusiasts many of us have automobile related art hanging on the walls of our home\, office or garage. Have you ever wondered how your favorite piece of art came to be? How an artist with tubes of paint and a little imagination turn a blank canvas into a work of art? What tools and techniques are applied to that blank\, white space transforming it into something brilliant\, colorful\, textured and seemingly 3-dimensional? Automotive artist Dan Reed will explain how its done Thursday evening October 1st at 6:30 PM.</p>\n\n<p style="color: rgb(34\, 34\, 34)\; line-height: normal\; font-family: arial\, sans-serif\; font-size: 12.8px\;">Reed will be having a display of his work here at the AACA Museum throughout the fall including during AACA Hershey Fall Meet Week when we have thousands of enthusiasts visit the Museum.</p>\n\n<p style="color: rgb(34\, 34\, 34)\; line-height: normal\; font-family: arial\, sans-serif\; font-size: 12.8px\;"><a href="http://www.danreedillustration.com/" style="color: rgb(17\, 85\, 204)\;" target="_blank"><font color="#f7a71a">http://www.<wbr />danreedillustration.com/</font></a></p>\n
LOCATION:AACA Museum 161 Museum Drive Hershey\, PA 17033
UID:e.1500.977
SEQUENCE:3
DTSTAMP:20260422T215320Z
URL:https://business.mainstreethanover.org/events/details/late-night-first-thursday-autos-in-acrylics-10-01-2015-977
END:VEVENT

END:VCALENDAR
