BEGIN:VCALENDAR
VERSION:2.0
PRODID:-//ChamberMaster//Event Calendar 2.0//EN
METHOD:PUBLISH
X-PUBLISHED-TTL:P3D
REFRESH-INTERVAL:P3D
CALSCALE:GREGORIAN
BEGIN:VEVENT
DTSTART:20151105T233000Z
DTEND:20151105T233000Z
X-MICROSOFT-CDO-ALLDAYEVENT:FALSE
SUMMARY:Late Night First Thursday: Celebrity Rides
DESCRIPTION:Sometimes it is the story behind a vehicle that makes it so unique\, sometimes it is the vehicle itself   other times it's both! Learn the tales behind the Museum's collection of vehicles previously owned by some very famous individuals. View Betty White's custom-ordered 1977 Cadillac Seville\, Whitney Houston's 1986 Rolls-Royce Silver Spur Limousine and more!
X-ALT-DESC;FMTTYPE=text/html:<span style="color: rgb(34\, 34\, 34)\; line-height: normal\; font-family: arial\, sans-serif\; font-size: 12.8px\;">Sometimes it is the story behind a vehicle that makes it so unique\, sometimes it is the vehicle itself &ndash\; other times it&rsquo\;s both! Learn the tales behind the Museum&rsquo\;s collection of vehicles previously owned by some very famous individuals. View Betty White&rsquo\;s custom-ordered 1977 Cadillac Seville\, Whitney Houston&rsquo\;s&nbsp\;1986 Rolls-Royce Silver Spur Limousine and more!</span>
LOCATION:AACA Museum 161 Museum Drive Hershey\, PA 17033
UID:e.1500.982
SEQUENCE:3
DTSTAMP:20260422T201147Z
URL:https://business.mainstreethanover.org/events/details/late-night-first-thursday-celebrity-rides-11-05-2015-982
END:VEVENT

END:VCALENDAR
