BEGIN:VCALENDAR
VERSION:2.0
PRODID:-//ChamberMaster//Event Calendar 2.0//EN
METHOD:PUBLISH
X-PUBLISHED-TTL:P3D
REFRESH-INTERVAL:P3D
CALSCALE:GREGORIAN
BEGIN:VEVENT
DTSTART:20180828T160000Z
DTEND:20180828T170000Z
X-MICROSOFT-CDO-ALLDAYEVENT:FALSE
SUMMARY:Leadership Hanover Info Session #3
DESCRIPTION:Do you want to make connections in the community? Are you looking to develop yourself professionally? \n\n\n\nLook no further! \n\n\n\nLeadership Hanover\, the program that connects local business men and women with local community leaders\, is back! \n\n\n\nCome learn about this year's session (we've updated a few things) at the first Leadership Hanover Info Session on Wednesday\, June 6th from 12-1 p.m. at the Hanover Area Chamber of Commerce. We'll be here to answer your questions\, explain the program\, and help you enroll.
X-ALT-DESC;FMTTYPE=text/html:<div data-block="true" data-editor="d3dnk" data-offset-key="qe6t-0-0" style="font-family: Helvetica\, Arial\, sans-serif\; color: rgb(29\, 33\, 41)\; font-size: 14px\; white-space: pre-wrap\; background-color: rgb(255\, 255\, 255)\;">\n<div class="_1mf _1mj" data-offset-key="qe6t-0-0" style="position: relative\; direction: ltr\; font-family: inherit\;"><span data-offset-key="qe6t-0-0" style="font-family: inherit\;">Do you want to make connections in the community? Are you looking to develop yourself professionally? </span></div>\n</div>\n\n<div data-block="true" data-editor="d3dnk" data-offset-key="fu61n-0-0" style="font-family: Helvetica\, Arial\, sans-serif\; color: rgb(29\, 33\, 41)\; font-size: 14px\; white-space: pre-wrap\; background-color: rgb(255\, 255\, 255)\;">\n<div class="_1mf _1mj" data-offset-key="fu61n-0-0" style="position: relative\; direction: ltr\; font-family: inherit\;"><span data-offset-key="c6q0l-0-0" style="font-family: inherit\;">Look no further! </span></div>\n</div>\n\n<div data-block="true" data-editor="d3dnk" data-offset-key="5e91u-0-0" style="font-family: Helvetica\, Arial\, sans-serif\; color: rgb(29\, 33\, 41)\; font-size: 14px\; white-space: pre-wrap\; background-color: rgb(255\, 255\, 255)\;">\n<div class="_1mf _1mj" data-offset-key="5e91u-0-0" style="position: relative\; direction: ltr\; font-family: inherit\;"><span data-offset-key="aj45p-0-0" style="font-family: inherit\;">Leadership Hanover\, the program that connects local business men and women with local community leaders\, is back! </span></div>\n</div>\n\n<div data-block="true" data-editor="d3dnk" data-offset-key="3vnq-0-0" style="font-family: Helvetica\, Arial\, sans-serif\; color: rgb(29\, 33\, 41)\; font-size: 14px\; white-space: pre-wrap\; background-color: rgb(255\, 255\, 255)\;">\n<div class="_1mf _1mj" data-offset-key="3vnq-0-0" style="position: relative\; direction: ltr\; font-family: inherit\;"><span data-offset-key="6k61-0-0" style="font-family: inherit\;">Come learn about this year&#39\;s session (we&#39\;ve updated a few things) at the first Leadership Hanover Info Session on Wednesday\, June 6th from 12-1 p.m. at the Hanover Area Chamber of Commerce. We&#39\;ll be here to answer your questions\, explain the program\, and help you enroll. </span></div>\n</div>\n
LOCATION:Hanover Area Chamber of Commerce 146 Carlisle Street Hanover\, PA 17331
UID:e.1500.4273
SEQUENCE:3
DTSTAMP:20260420T164257Z
URL:https://business.mainstreethanover.org/events/details/leadership-hanover-info-session-3-4273
END:VEVENT

END:VCALENDAR
