BEGIN:VCALENDAR
VERSION:2.0
PRODID:-//ChamberMaster//Event Calendar 2.0//EN
METHOD:PUBLISH
X-PUBLISHED-TTL:P3D
REFRESH-INTERVAL:P3D
CALSCALE:GREGORIAN
BEGIN:VEVENT
DTSTART:20160718T213000Z
DTEND:20160718T223000Z
X-MICROSOFT-CDO-ALLDAYEVENT:FALSE
SUMMARY:Leadership Hanover Information Session
DESCRIPTION:Come Join Us for a Informational Session about Leadership Hanover! \n\nLearn more about Leadership Hanover by visiting our website. \n\nhttp://hanoverchamber.com/leadership-hanover/
X-ALT-DESC;FMTTYPE=text/html:Come Join Us for a Informational Session about Leadership Hanover!&nbsp\;<br />\nLearn more about Leadership Hanover by visiting our website.&nbsp\;<br />\n<a href="http://hanoverchamber.com/leadership-hanover/">http://hanoverchamber.com/leadership-hanover/</a>
LOCATION:Miscreation Brewing Company 6 Center Square\, Hanover\, PA
UID:e.1500.1135
SEQUENCE:3
DTSTAMP:20260422T082531Z
URL:https://business.mainstreethanover.org/events/details/leadership-hanover-information-session-07-18-2016-1135
END:VEVENT

END:VCALENDAR
