BEGIN:VCALENDAR
VERSION:2.0
PRODID:-//ChamberMaster//Event Calendar 2.0//EN
METHOD:PUBLISH
X-PUBLISHED-TTL:P3D
REFRESH-INTERVAL:P3D
CALSCALE:GREGORIAN
BEGIN:VEVENT
DTSTART:20170613T210000Z
DTEND:20170613T220000Z
X-MICROSOFT-CDO-ALLDAYEVENT:FALSE
SUMMARY:Leadership Hanover Information Session
DESCRIPTION:Meet with past participants\, talk with Chamber staff\, and learn more about the Leadership Hanover program and how it can help you  to develop the leader within. \n\n			 Chamber members are invited to bring coworkers or employees who could benefit from a leadership program.
X-ALT-DESC;FMTTYPE=text/html:<table align="center" border="0" cellpadding="0" cellspacing="0" style="width:94.0%\;" width="94%">\n	<tbody>\n		<tr>\n			<td style="padding:5.25pt 7.5pt 5.25pt 7.5pt\;vertical-align:top\;"><span style="color:#4D4F54\;"><span style="font-family:tahoma\,sans-serif\;"><span style="font-size:11.0pt\;">Meet with past participants\, talk with Chamber staff\, and learn more about the&nbsp\;<a href="http://r20.rs6.net/tn.jsp?f=001bnaDONe0yNU-x4OkP_QjoJwZTvF-0SULwjAlr9qjj21unqcq07aFWLgLSzyBvshhqZ-n5z1Z9oMMi7JBHp0NPMg8VnrqiNAAmnqlXX9wnYDz7VTTVDh6RRdfxi1kOF0SqSxY609y1GCeOAPyCmpFSFk1LqJFUFDTT965OQlEy1p-yC0ccKI5I9tiI8kO59YqjlP02wmzmCA=&amp\;c=o3gYK3WY917Sut1ycaWKz5_zwYXPSDGGMA_TRI_oGO9mKUUE6jk6eQ==&amp\;ch=3kHutuuBnbYxWZ9XyBk8aW3b1l_NAWneT31g799u2nJT-p4_SayYMw==" target="_blank"><span style="color:#8E2344\;">Leadership Hanover</span></a>&nbsp\;program and how it can help&nbsp\;<em>you &nbsp\;</em>to develop the leader within.&nbsp\;</span></span></span><br />\n			<span style="color:#4D4F54\;"><span style="font-family:tahoma\,sans-serif\;"><span style="font-size:11.0pt\;">&nbsp\;Chamber members are invited to bring coworkers or employees who could benefit from a leadership program.</span></span></span></td>\n		</tr>\n	</tbody>\n</table>\n\n<div style="clear:both\;">&nbsp\;</div>\n
LOCATION:MISCREATION BREWING COMPANY 6 Center Square Hanover\, PA
UID:e.1500.2936
SEQUENCE:3
DTSTAMP:20260421T154342Z
URL:https://business.mainstreethanover.org/events/details/leadership-hanover-information-session-2936
END:VEVENT

END:VCALENDAR
