BEGIN:VCALENDAR
VERSION:2.0
PRODID:-//ChamberMaster//Event Calendar 2.0//EN
METHOD:PUBLISH
X-PUBLISHED-TTL:P3D
REFRESH-INTERVAL:P3D
CALSCALE:GREGORIAN
BEGIN:VEVENT
DTSTART:20171115T233000Z
DTEND:20171116T020000Z
X-MICROSOFT-CDO-ALLDAYEVENT:FALSE
SUMMARY:Lincoln's 25 Hours in Gettysburg - 1863
DESCRIPTION:Historian Ray Kinard - Revisits 1st Remembrance Day
X-ALT-DESC;FMTTYPE=text/html:Historian Ray Kinard&nbsp\;- Revisits 1st Remembrance Day
LOCATION:Homewood at Plum Creek\, OMNI Auditorium 425 Westminster Rd.\, Hanover
UID:e.1500.3097
SEQUENCE:3
DTSTAMP:20260421T091324Z
URL:https://business.mainstreethanover.org/events/details/lincoln-s-25-hours-in-gettysburg-1863-3097
END:VEVENT

END:VCALENDAR
