BEGIN:VCALENDAR
VERSION:2.0
PRODID:-//ChamberMaster//Event Calendar 2.0//EN
METHOD:PUBLISH
X-PUBLISHED-TTL:P3D
REFRESH-INTERVAL:P3D
CALSCALE:GREGORIAN
BEGIN:VEVENT
DTSTART:20180708T180000Z
DTEND:20180708T210000Z
X-MICROSOFT-CDO-ALLDAYEVENT:FALSE
SUMMARY:Live on the Terrace
DESCRIPTION:Spend a relaxing afternoon with live music\, wood-fired pizzas\, and wine. Live on the Terrace will take place every Sunday afternoon from 2-5pm July 8th through September 23rd: July 8 Nick Andrew Staver July 15 The Brahman Noodles July 22 Ron Nicodemus July 29 Nick Andrew Staver August 5 Run the Willow August 12 Matt Otis August 19 Aaron Getchell August 26 Josh Krevsky September 2 The Jayplayers September 9 Faded Denim September 16 The Brahman Noodles September 23 The Bumperyachts
X-ALT-DESC;FMTTYPE=text/html:Spend a relaxing afternoon with live music\, wood-fired pizzas\, and wine. Live on the Terrace will take place every Sunday afternoon from 2-5pm July 8th through September 23rd: July 8 Nick Andrew Staver July 15 The Brahman Noodles July 22 Ron Nicodemus July 29 Nick Andrew Staver August 5 Run the Willow August 12 Matt Otis August 19 Aaron Getchell August 26 Josh Krevsky September 2 The Jayplayers September 9 Faded Denim September 16 The Brahman Noodles September 23 The Bumperyachts
LOCATION:Adams County Winery 251 Peach Tree Rd. Orrtanna\, PA 17353
UID:e.1500.4203
SEQUENCE:3
DTSTAMP:20260420T182600Z
URL:https://business.mainstreethanover.org/events/details/live-on-the-terrace-4203
END:VEVENT

END:VCALENDAR
