BEGIN:VCALENDAR
VERSION:2.0
PRODID:-//ChamberMaster//Event Calendar 2.0//EN
METHOD:PUBLISH
X-PUBLISHED-TTL:P3D
REFRESH-INTERVAL:P3D
CALSCALE:GREGORIAN
BEGIN:VEVENT
DTSTART;VALUE=DATE:20150124
DTEND;VALUE=DATE:20150427
TRANSP:TRANSPARENT
X-MICROSOFT-CDO-ALLDAYEVENT:TRUE
SUMMARY:Lotus: The Art of Lightness
DESCRIPTION:This exhibit will feature a variety of Lotus models and artwork\, both road and race throughout their 60 year history. Lotus and the genius of Colin Chapman have been at the forefront of racing technology and automotive design since 1948.  Chapman's mantras of simplification\, light weight and the least amount of parts effectively deployed that went into his racing car design were directly translated into Lotus' road cars and produced iconic machines such as the Seven\, Elan\, Esprit\, and Elise. The rest of the automotive world is finally realizing that horsepower makes you fast in the straights\, but light weight makes you faster everywhere   and more fuel efficient to boot! For over 60 years Lotus has continued to produce class-leading sports cars and are a globally respected automotive engineering consultancy\, working with many of the world's most prestigious car manufacturers.
X-ALT-DESC;FMTTYPE=text/html:<p class="MsoNormal" style="margin-bottom: 0.0001pt\; line-height: normal\; vertical-align: baseline\; background-image: initial\; background-attachment: initial\; background-size: initial\; background-origin: initial\; background-clip: initial\; background-position: initial\; background-repeat: initial\;"><span style="font-size:10.0pt\;\nfont-family:&quot\;Times New Roman&quot\;\,serif\;mso-fareast-font-family:&quot\;Times New Roman&quot\;">This exhibit will feature a variety of Lotus models and artwork\, both road and race throughout their 60 year history. <span style="border:none windowtext 1.0pt\;\nmso-border-alt:none windowtext 0in\;padding:0in">Lotus and the genius of Colin Chapman have been at the forefront of racing technology and automotive design since 1948.&nbsp\; Chapman&rsquo\;s mantras of simplification\, light weight and the least amount of parts effectively deployed that went into his racing car design were directly translated into Lotus&rsquo\; road cars and produced iconic machines such as the Seven\, Elan\, Esprit\, and Elise. The rest of the automotive world is finally realizing that horsepower makes you fast in the straights\, but light weight makes you faster everywhere &ndash\; and more fuel efficient to boot!</span> <span style="border:none windowtext 1.0pt\;\nmso-border-alt:none windowtext 0in\;padding:0in">For over 60 years Lotus has continued to produce&nbsp\;<span style="background-image: initial\; background-attachment: initial\; background-size: initial\; background-origin: initial\; background-clip: initial\; background-position: initial\; background-repeat: initial\;">class-leading sports cars and are a globally respected automotive engineering consultancy\, working with many of the world&rsquo\;s most prestigious car manufacturers.&nbsp\;</span></span><o:p></o:p></span></p>\n
LOCATION:AACA Museum 161 Museum Drive Hershey\, PA 17033
UID:e.1500.810
SEQUENCE:3
DTSTAMP:20260423T074305Z
URL:https://business.mainstreethanover.org/events/details/lotus-the-art-of-lightness-01-24-2015-810
END:VEVENT

END:VCALENDAR
