BEGIN:VCALENDAR
VERSION:2.0
PRODID:-//ChamberMaster//Event Calendar 2.0//EN
METHOD:PUBLISH
X-PUBLISHED-TTL:P3D
REFRESH-INTERVAL:P3D
CALSCALE:GREGORIAN
BEGIN:VEVENT
DTSTART:20151011T190000Z
DTEND:20151011T220000Z
X-MICROSOFT-CDO-ALLDAYEVENT:FALSE
SUMMARY:Lyric Band of Hanover Concert
DESCRIPTION:St. Paul's Lutheran Church\n\ncelebrating 125 years of serving the lord
X-ALT-DESC;FMTTYPE=text/html:<p align="LEFT"><i><font face="BoogieWoogieHmk" size="6"><font face="BoogieWoogieHmk" size="6">St. Paul&rsquo\;s Lutheran Church</font></font></i></p>\n\n<p><i><font color="#ff0000" face="BoogieWoogieHmk" size="6"><font color="#ff0000" face="BoogieWoogieHmk" size="6"><font color="#ff0000" face="BoogieWoogieHmk" size="6">celebrating 125 years of serving the lord</font></font></font></i></p>\n
LOCATION:127 York Street Hanover\, PA 17331
UID:e.1500.958
SEQUENCE:3
DTSTAMP:20260422T220138Z
URL:https://business.mainstreethanover.org/events/details/lyric-band-of-hanover-concert-10-11-2015-958
END:VEVENT

END:VCALENDAR
