BEGIN:VCALENDAR
VERSION:2.0
PRODID:-//ChamberMaster//Event Calendar 2.0//EN
METHOD:PUBLISH
X-PUBLISHED-TTL:P3D
REFRESH-INTERVAL:P3D
CALSCALE:GREGORIAN
BEGIN:VEVENT
DTSTART:20170402T190000Z
DTEND:20170402T210000Z
X-MICROSOFT-CDO-ALLDAYEVENT:FALSE
SUMMARY:Lyric Band of Hanover Concert!
DESCRIPTION:" A Spring Concert" will be performed by the Lyric Band of Hanover on Sunday\, April 2\, 2017 at 3 p.m. at the Emory Markle Intermediate School Auditorium. FREE ADMISSION! FREE PARKING!\n\nDonations will be accepted following the program.
X-ALT-DESC;FMTTYPE=text/html:&quot\; A Spring Concert&quot\; will be performed by the Lyric Band of Hanover on Sunday\, April 2\, 2017 at 3 p.m. at the Emory Markle Intermediate School Auditorium. FREE ADMISSION! FREE PARKING!<br />\nDonations will be accepted following the program.
LOCATION:Emory Markle Intermediate School Auditorium 225 Bowman Road Hanover\, PA 17331
UID:e.1500.2499
SEQUENCE:3
DTSTAMP:20260421T200213Z
URL:https://business.mainstreethanover.org/events/details/lyric-band-of-hanover-concert-2499
END:VEVENT

END:VCALENDAR
