BEGIN:VCALENDAR
VERSION:2.0
PRODID:-//ChamberMaster//Event Calendar 2.0//EN
METHOD:PUBLISH
X-PUBLISHED-TTL:P3D
REFRESH-INTERVAL:P3D
CALSCALE:GREGORIAN
BEGIN:VEVENT
DTSTART:20160615T203000Z
DTEND:20160615T220000Z
X-MICROSOFT-CDO-ALLDAYEVENT:FALSE
SUMMARY:Main Street Hanover Annual Meeting Update and Reception
DESCRIPTION:Main Street Hanover would like to welcome you to our Annual Meeting Event! During this event we look forward to releasing our 2015 Annual Report\, giving an update on our major projects\, and recognize our great group of volunteers for their hard work and dedication. Please consider attending to learn more about Main Street Hanover and our plans for the future of Downtown! 4:30pm - 5:00pm - Cocktail Reception - light hors d'eovres\, beer\, and wine 5:00pm - 6:00pm - Annual Report Release and Main Street Hanover Update Presentation
X-ALT-DESC;FMTTYPE=text/html:Main Street Hanover would like to welcome you to our Annual Meeting Event! During this event we look forward to releasing our 2015 Annual Report\, giving an update on our major projects\, and recognize our great group of volunteers for their hard work and dedication. Please consider attending to learn more about Main Street Hanover and our plans for the future of Downtown! 4:30pm - 5:00pm - Cocktail Reception - light hors d&#39\;eovres\, beer\, and wine 5:00pm - 6:00pm - Annual Report Release and Main Street Hanover Update Presentation
LOCATION:Guthrie Memorial Library - Bare Center
UID:e.1500.1119
SEQUENCE:3
DTSTAMP:20260422T102857Z
URL:https://business.mainstreethanover.org/events/details/main-street-hanover-annual-meeting-update-and-reception-06-15-2016-1119
END:VEVENT

END:VCALENDAR
