BEGIN:VCALENDAR
VERSION:2.0
PRODID:-//ChamberMaster//Event Calendar 2.0//EN
METHOD:PUBLISH
X-PUBLISHED-TTL:P3D
REFRESH-INTERVAL:P3D
CALSCALE:GREGORIAN
BEGIN:VEVENT
DTSTART:20150514T160000Z
DTEND:20150514T170000Z
X-MICROSOFT-CDO-ALLDAYEVENT:FALSE
SUMMARY:Many Expectations\, Limited Budget- How to Put the WOW into Employee Engagement
DESCRIPTION:Discover ways to conduct more meaningful staff meetings\, how to teach your employees to help you succeed\, low cost ideas to have fun at work and build trust and rapport to get the most from your employees.
X-ALT-DESC;FMTTYPE=text/html:<span style="color: rgb(20\, 20\, 18)\;"><span style="font-family: lucida bright\,serif\;">Discover&nbsp\;ways to conduct more meaningful staff meetings\, how to teach your employees to help you succeed\, low cost ideas to have fun at work and build trust and rapport to get the most from your employees.&nbsp\;&nbsp\;</span></span>
LOCATION:Virtual Teleseminar
UID:e.1500.917
SEQUENCE:3
DTSTAMP:20260423T054636Z
URL:https://business.mainstreethanover.org/events/details/many-expectations-limited-budget-how-to-put-the-wow-into-employee-engagement-05-14-2015-917
END:VEVENT

END:VCALENDAR
