BEGIN:VCALENDAR
VERSION:2.0
PRODID:-//ChamberMaster//Event Calendar 2.0//EN
METHOD:PUBLISH
X-PUBLISHED-TTL:P3D
REFRESH-INTERVAL:P3D
CALSCALE:GREGORIAN
BEGIN:VEVENT
DTSTART:20180505T130000Z
DTEND:20180505T200000Z
X-MICROSOFT-CDO-ALLDAYEVENT:FALSE
SUMMARY:Mayfest
DESCRIPTION:The Maytown Historical Society is bringing back Mayfest! Join us in celebrating our small town history young and old. There will be a walking house/garden tour of homes within walking distance from our square. Also featured will be vendors with a historical theme- some selling their wares and some demonstrating their craft. Children's crafts with a historical theme\, a 25 cent cakewalk\, and of course\, the traditional Maypole Dance are only some of the planned activities.
X-ALT-DESC;FMTTYPE=text/html:The Maytown Historical Society is bringing back Mayfest! Join us in celebrating our small town history young and old. There will be a walking house/garden tour of homes within walking distance from our square. Also featured will be vendors with a historical theme- some selling their wares and some demonstrating their craft. Children&#39\;s crafts with a historical theme\, a 25 cent cakewalk\, and of course\, the traditional Maypole Dance are only some of the planned activities.
LOCATION:Maytown\, PA (Lancaster County)
UID:e.1500.3101
SEQUENCE:3
DTSTAMP:20260420T214919Z
URL:https://business.mainstreethanover.org/events/details/mayfest-3101
END:VEVENT

END:VCALENDAR
