BEGIN:VCALENDAR
VERSION:2.0
PRODID:-//ChamberMaster//Event Calendar 2.0//EN
METHOD:PUBLISH
X-PUBLISHED-TTL:P3D
REFRESH-INTERVAL:P3D
CALSCALE:GREGORIAN
BEGIN:VEVENT
DTSTART:20160825T200000Z
DTEND:20160825T220000Z
X-MICROSOFT-CDO-ALLDAYEVENT:FALSE
SUMMARY:Meet and Greet
DESCRIPTION:Children's Aid Society invites you to meet Eric Chase M.S.\, our new Executive Director\, and Janique Washington\, Ph.D.\, LPC\, our new Director of Clinical Services on August 25\, 2016 between 4:00 PM and 6:00 PM.
X-ALT-DESC;FMTTYPE=text/html:<span style="color:black\;"><span style="font-family:arial\,sans-serif\;"><span style="font-size:11.0pt\;">Children&rsquo\;s Aid Society invites you to meet Eric Chase M.S.\, our new Executive Director\, and Janique Washington\, Ph.D.\, LPC\, our new Director of Clinical Services on August 25\, 2016 between 4:00 PM and 6:00 PM.</span></span></span>
LOCATION:The Nicarry Center\, 343 Lincoln Way West in New Oxford.
UID:e.1500.1208
SEQUENCE:3
DTSTAMP:20260422T071100Z
URL:https://business.mainstreethanover.org/events/details/meet-and-greet-08-25-2016-1208
END:VEVENT

END:VCALENDAR
