BEGIN:VCALENDAR
VERSION:2.0
PRODID:-//ChamberMaster//Event Calendar 2.0//EN
METHOD:PUBLISH
X-PUBLISHED-TTL:P3D
REFRESH-INTERVAL:P3D
CALSCALE:GREGORIAN
BEGIN:VEVENT
DTSTART:20160927T210000Z
DTEND:20160927T230000Z
X-MICROSOFT-CDO-ALLDAYEVENT:FALSE
SUMMARY:Membership Mixer
DESCRIPTION:Come Join Us For Our Membership Mixer Hosted By RLH CPA's and Business Advisors.
X-ALT-DESC;FMTTYPE=text/html:<strong style="line-height: 20.8px\;">Come Join Us For Our Membership Mixer Hosted By RLH CPA&#39\;s and Business Advisors.&nbsp\;</strong>
LOCATION:195 Stock Street Suite 311 Hanover\, PA 17331
UID:e.1500.1175
SEQUENCE:3
DTSTAMP:20260422T053143Z
URL:https://business.mainstreethanover.org/events/details/membership-mixer-09-27-2016-1175
END:VEVENT

END:VCALENDAR
