BEGIN:VCALENDAR
VERSION:2.0
PRODID:-//ChamberMaster//Event Calendar 2.0//EN
METHOD:PUBLISH
X-PUBLISHED-TTL:P3D
REFRESH-INTERVAL:P3D
CALSCALE:GREGORIAN
BEGIN:VEVENT
DTSTART:20171206T220000Z
DTEND:20171207T000000Z
X-MICROSOFT-CDO-ALLDAYEVENT:FALSE
SUMMARY:Membership Mixer at ACNB Bank
DESCRIPTION:Join us for the December Membership Mixer at ACNB Bank\, 1127 Eichelberger Street in Hanover\, on Wednesday\, December 6\, from 5 to 7 p.m. The Mixer will provide valuable networking opportunities with fellow Chamber members in a festive holiday atmosphere with catering provided by Warehouse Gourmet\, fun raffle prizes\, and more.\n\nFor 160 years\, ACNB Bank has proudly served southcentral Pennsylvania and northern Maryland and remains Hanover's best local source for banking expertise\, products\, services and technology. Visit www.acnb.com to learn more.\n\nChamber mixers are free to attend\, but registration is required. Register at Hanover Area Chamber of Commerce.
X-ALT-DESC;FMTTYPE=text/html:Join us for the December Membership Mixer at <strong>ACNB Bank</strong>\, 1127 Eichelberger Street in Hanover\, on Wednesday\, December 6\, from 5 to 7 p.m. The Mixer will provide valuable networking opportunities with fellow Chamber members in a festive holiday atmosphere with catering provided by Warehouse Gourmet\, fun raffle prizes\, and more.<br />\nFor 160 years\, ACNB Bank has proudly served southcentral Pennsylvania and northern Maryland and remains Hanover&rsquo\;s best local source for banking expertise\, products\, services and technology. Visit <a href="http://www.acnb.com/">www.acnb.com</a> to learn more.<br />\nChamber mixers are free to attend\, but registration is required. Register at <a href="https://secure2.chambermaster.com/directory/index.jsp?tabset=2">Hanover Area Chamber of Commerce</a>.&nbsp\;
LOCATION:ACNB Bank 1127 Eichelberger St. Hanover\, PA 17331
UID:e.1500.2514
SEQUENCE:3
DTSTAMP:20260421T055854Z
URL:https://business.mainstreethanover.org/events/details/membership-mixer-at-acnb-bank-2514
END:VEVENT

END:VCALENDAR
