BEGIN:VCALENDAR
VERSION:2.0
PRODID:-//ChamberMaster//Event Calendar 2.0//EN
METHOD:PUBLISH
X-PUBLISHED-TTL:P3D
REFRESH-INTERVAL:P3D
CALSCALE:GREGORIAN
BEGIN:VEVENT
DTSTART:20171108T160000Z
DTEND:20171108T180000Z
X-MICROSOFT-CDO-ALLDAYEVENT:FALSE
SUMMARY:Membership Mixer at ERA Preferred
DESCRIPTION:Membership Mixer hosted by ERA Preferred!
X-ALT-DESC;FMTTYPE=text/html:Membership Mixer hosted by ERA Preferred!&nbsp\;&nbsp\;&nbsp\;&nbsp\;
LOCATION:570 Carlisle St. Hanover\, PA 17331
UID:e.1500.3095
SEQUENCE:3
DTSTAMP:20260421T074318Z
URL:https://business.mainstreethanover.org/events/details/membership-mixer-at-era-preferred-3095
END:VEVENT

END:VCALENDAR
